BEGIN:VCALENDAR
VERSION:2.0
PRODID:-//eventon.com NONSGML v1.0//EN
CALSCALE:GREGORIAN
METHOD:PUBLISH
BEGIN:VEVENT
UID:69eb2564baf8a
DTSTAMP:20260424T081012Z
DTSTART:20260403T093000Z
DTEND:20260403T110000Z
LOCATION:
SUMMARY:Good Friday Children's Crafts and Worship (Copy)
DESCRIPTION:Good Friday Children&#8217;s workshop.  09.30. Children must b
 e accompanied by an adult. &nbsp; &nbsp;\nhttps://www.stjamesaltham.org/eve
 nts/good-friday-childrens-crafts-and-worship-copy/
URL:https://www.stjamesaltham.org/events/good-friday-childrens-crafts-and-worship-copy/
END:VEVENT
END:VCALENDAR