BEGIN:VCALENDAR
VERSION:2.0
PRODID:-//eventon.com NONSGML v1.0//EN
CALSCALE:GREGORIAN
METHOD:PUBLISH
BEGIN:VEVENT
UID:69e9d7a9199ef
DTSTAMP:20260423T082617Z
DTSTART:20230910T103000Z
DTEND:20230910T003000Z
LOCATION:St James Church Altham Burnley Road\,  Altham\,  Lancashire\,  BB5 5UH
SUMMARY:Family Walk and Picnic
DESCRIPTION:Join us for after the service  for a gentle 3 mile walk around
  the parish followed by a picnic lunch in the Church. All welcome. For cate
 ring purposes\,  please let one of the team know if you would like to join 
 us.\nhttps://www.stjamesaltham.org/events/family-walk-and-picnic/
URL:https://www.stjamesaltham.org/events/family-walk-and-picnic/
END:VEVENT
END:VCALENDAR